BEGIN:VCALENDAR
VERSION:2.0
PRODID:-//Plone.org//NONSGML plone.app.event//EN
X-WR-TIMEZONE:Europe/Rome
BEGIN:VEVENT
SUMMARY:BRUNCH
DTSTART;TZID=Europe/Rome;VALUE=DATE-TIME:20251115T120000
DTEND;TZID=Europe/Rome;VALUE=DATE-TIME:20251115T140000
DTSTAMP;VALUE=DATE-TIME:20260421T153929Z
UID:4648fe90ba624e72920b8fc8bffcc64a@www.baccanaleimola.it
CATEGORIES:Baccanale 2025,spezie,cena,degustazione
CREATED;VALUE=DATE-TIME:20250916T124554Z
DESCRIPTION:Proponiamo un sabato alternativo per la colazione/pranzo/aperi
 tivo con il BRUNCH\, divertente agli occhi e gustoso al palato.
LAST-MODIFIED;VALUE=DATE-TIME:20250917T085324Z
URL:https://www.baccanaleimola.it/api/programma/brunch
END:VEVENT
BEGIN:VTIMEZONE
TZID:Europe/Rome
X-LIC-LOCATION:Europe/Rome
BEGIN:STANDARD
DTSTART;VALUE=DATE-TIME:20251026T020000
TZNAME:CET
TZOFFSETFROM:+0200
TZOFFSETTO:+0100
END:STANDARD
END:VTIMEZONE
END:VCALENDAR
