BEGIN:VCALENDAR
VERSION:2.0
PRODID:-//Plone.org//NONSGML plone.app.event//EN
X-WR-TIMEZONE:Europe/Rome
BEGIN:VEVENT
SUMMARY:BONOMELLI: SCOPRI L’ARTE DEL BENESSERE IN UNA TAZZA
DTSTART;TZID=Europe/Rome;VALUE=DATE-TIME:20251113T180000
DTEND;TZID=Europe/Rome;VALUE=DATE-TIME:20251113T190000
DTSTAMP;VALUE=DATE-TIME:20260421T174054Z
UID:5f90a0c08350470aaa2fb196ae55ac97@www.baccanaleimola.it
CATEGORIES:Baccanale 2025,spezie
CREATED;VALUE=DATE-TIME:20250916T105353Z
DESCRIPTION:Un viaggio sensoriale tra erbe\, fiori e tradizione per riscop
 rire il potere naturale del benessere. A cura della Dott.ssa Francesca Bac
 cilieri\, Sensory e R&D Manager Bonomelli\nIngresso libero. Info e prenota
 zioni: attivita.culturali@comune.imola.bo.it – 0542 602300\n
LAST-MODIFIED;VALUE=DATE-TIME:20251017T082031Z
URL:https://www.baccanaleimola.it/api/programma/bonomelli-scopri-l2019arte
 -del-benessere-in-una-tazza
END:VEVENT
BEGIN:VTIMEZONE
TZID:Europe/Rome
X-LIC-LOCATION:Europe/Rome
BEGIN:STANDARD
DTSTART;VALUE=DATE-TIME:20251026T020000
TZNAME:CET
TZOFFSETFROM:+0200
TZOFFSETTO:+0100
END:STANDARD
END:VTIMEZONE
END:VCALENDAR
