BEGIN:VCALENDAR
VERSION:2.0
PRODID:-//Plone.org//NONSGML plone.app.event//EN
X-WR-TIMEZONE:Europe/Rome
BEGIN:VEVENT
SUMMARY:BISCOTTINI DAL CUORE AROMATICO
DTSTART;TZID=Europe/Rome;VALUE=DATE-TIME:20251104T163000
DTEND;TZID=Europe/Rome;VALUE=DATE-TIME:20251104T173000
DTSTAMP;VALUE=DATE-TIME:20260421T172109Z
UID:2726b7d93631412ea95e98cef03fb319@www.baccanaleimola.it
CATEGORIES:Baccanale 2025,per bambini,spezie
CREATED;VALUE=DATE-TIME:20250916T063323Z
DESCRIPTION:Prepariamo insieme omini pan di zenzero speziati. Un viaggio s
 ensoriale tra le spezie natalizie: questi biscottini racchiudono un mix av
 volgente di cannella\, anice stellato\, cardamomo\, coriandolo\, macis\, p
 imento\, zenzero\, pepe nero e chiodi di garofano. Sono un’idea coinvolg
 ente per regalare calore e profumo alle feste. Con Andrea Marzo\, Pastry C
 hef Eurovo Service
LAST-MODIFIED;VALUE=DATE-TIME:20251017T080526Z
URL:https://www.baccanaleimola.it/api/programma/biscottini-dal-cuore-aroma
 tico
END:VEVENT
BEGIN:VTIMEZONE
TZID:Europe/Rome
X-LIC-LOCATION:Europe/Rome
BEGIN:STANDARD
DTSTART;VALUE=DATE-TIME:20251026T020000
TZNAME:CET
TZOFFSETFROM:+0200
TZOFFSETTO:+0100
END:STANDARD
END:VTIMEZONE
END:VCALENDAR
