BEGIN:VCALENDAR
VERSION:2.0
PRODID:-//Plone.org//NONSGML plone.app.event//EN
X-WR-TIMEZONE:Europe/Rome
BEGIN:VEVENT
SUMMARY:Baccanale in Boutique: sentori speziati
DTSTART;TZID=Europe/Rome;VALUE=DATE-TIME:20251109T160000
DTEND;TZID=Europe/Rome;VALUE=DATE-TIME:20251109T190000
DTSTAMP;VALUE=DATE-TIME:20260421T191317Z
UID:1996db743d6a48409bb21137fee1c5b6@www.baccanaleimola.it
CATEGORIES:Baccanale 2025,Baccanale in boutique,spezie,degustazione
CREATED;VALUE=DATE-TIME:20250923T091956Z
DESCRIPTION:In Enoteca ospita degustazioni di preziosi vini.
LAST-MODIFIED;VALUE=DATE-TIME:20251016T140135Z
URL:https://www.baccanaleimola.it/api/programma/baccanale-in-boutique-sent
 ori-speziati/2025-11-09
END:VEVENT
BEGIN:VTIMEZONE
TZID:Europe/Rome
X-LIC-LOCATION:Europe/Rome
BEGIN:STANDARD
DTSTART;VALUE=DATE-TIME:20251026T020000
TZNAME:CET
TZOFFSETFROM:+0200
TZOFFSETTO:+0100
END:STANDARD
END:VTIMEZONE
END:VCALENDAR
