BEGIN:VCALENDAR
VERSION:2.0
PRODID:-//Plone.org//NONSGML plone.app.event//EN
X-WR-TIMEZONE:Europe/Rome
BEGIN:VEVENT
SUMMARY:Baccanale in Boutique - Fastweb incontra Poderi delle Rocche
DTSTART;TZID=Europe/Rome;VALUE=DATE-TIME:20251028T163000
DTEND;TZID=Europe/Rome;VALUE=DATE-TIME:20251028T190000
DTSTAMP;VALUE=DATE-TIME:20260421T155245Z
UID:2cd5fc6b8ea142bba84a60d41f261a74@www.baccanaleimola.it
RRULE:FREQ=DAILY;UNTIL=20251028T000000Z;INTERVAL=1
RDATE;TZID=Europe/Rome:20251113T000000
CATEGORIES:Baccanale 2025,Baccanale in boutique,spezie
CREATED;VALUE=DATE-TIME:20251016T135632Z
DESCRIPTION:Degustazione dei prodotti della Cantina Poderi delle Rocche  -
  Imola\n\n
LAST-MODIFIED;VALUE=DATE-TIME:20251017T092304Z
URL:https://www.baccanaleimola.it/api/programma/baccanale-in-boutique-fast
 web-incontra-poderi-delle-rocche
END:VEVENT
BEGIN:VTIMEZONE
TZID:Europe/Rome
X-LIC-LOCATION:Europe/Rome
BEGIN:STANDARD
DTSTART;VALUE=DATE-TIME:20251026T020000
TZNAME:CET
TZOFFSETFROM:+0200
TZOFFSETTO:+0100
END:STANDARD
END:VTIMEZONE
END:VCALENDAR
