BEGIN:VCALENDAR
VERSION:2.0
PRODID:-//Plone.org//NONSGML plone.app.event//EN
X-WR-TIMEZONE:Europe/Rome
BEGIN:VEVENT
SUMMARY:BACCANALE 2025: QUARANT’ANNI DI GUSTO\, CULTURA E CONVIVIALITÀ
DTSTART;VALUE=DATE:20251025
DTEND;VALUE=DATE:20251117
DTSTAMP;VALUE=DATE-TIME:20260421T155819Z
UID:d553257849f549d7bfef47adc001931f@www.baccanaleimola.it
CATEGORIES:Baccanale 2025,spezie,mostre
CREATED;VALUE=DATE-TIME:20250916T135508Z
DESCRIPTION:In occasione della edizione 2025 del Baccanale che festeggia i
 l traguardo speciale dei quarant’anni\, la Biblioteca comunale di Imola 
 espone pubblicazioni\, ricettari\, documenti e fotografie che raccontano i
  primi anni di questa rassegna di cultura gastronomica\, un viaggio attrav
 erso i sapori\, la storia e l’identità della cucina italiana.\nSarà in
 oltre allestita a piano terra una galleria dei manifesti del Baccanale dal
 le prime edizioni ai giorni nostri.\n
LAST-MODIFIED;VALUE=DATE-TIME:20250917T085326Z
URL:https://www.baccanaleimola.it/api/programma/baccanale-2025-quarant2019
 anni-di-gusto-cultura-e-convivialita
END:VEVENT
END:VCALENDAR
