BEGIN:VCALENDAR
VERSION:2.0
PRODID:-//Plone.org//NONSGML plone.app.event//EN
X-WR-TIMEZONE:Europe/Rome
BEGIN:VEVENT
SUMMARY:ARMONIE E AROMI: NOTE E RACCONTI DAL MONDO DELLE SPEZIE
DTSTART;TZID=Europe/Rome;VALUE=DATE-TIME:20251115T160000
DTEND;TZID=Europe/Rome;VALUE=DATE-TIME:20251115T193000
DTSTAMP;VALUE=DATE-TIME:20260421T173854Z
UID:278dd0e06c7242cdb0bccb4a351da732@www.baccanaleimola.it
CATEGORIES:Baccanale 2025,spezie,per bambini
CREATED;VALUE=DATE-TIME:20250916T125336Z
DESCRIPTION:Un pomeriggio per bambini\, famiglie e cittadinanza dedicato a
 lla scoperta sensoriale\, alla creatività\, alla lettura e alla musica. I
 n mattinata sono previste attività di accoglienza nelle scuole dell’Ist
 ituto.
LAST-MODIFIED;VALUE=DATE-TIME:20250917T085327Z
URL:https://www.baccanaleimola.it/api/programma/armonie-e-aromi-note-e-rac
 conti-dal-mondo-delle-spezie
END:VEVENT
BEGIN:VTIMEZONE
TZID:Europe/Rome
X-LIC-LOCATION:Europe/Rome
BEGIN:STANDARD
DTSTART;VALUE=DATE-TIME:20251026T020000
TZNAME:CET
TZOFFSETFROM:+0200
TZOFFSETTO:+0100
END:STANDARD
END:VTIMEZONE
END:VCALENDAR
