BEGIN:VCALENDAR
VERSION:2.0
PRODID:-//Plone.org//NONSGML plone.app.event//EN
X-WR-TIMEZONE:Europe/Rome
BEGIN:VEVENT
SUMMARY:AMLETO IN SALSA PICCANTE
DTSTART;TZID=Europe/Rome;VALUE=DATE-TIME:20251106T210000
DTEND;TZID=Europe/Rome;VALUE=DATE-TIME:20251106T223000
DTSTAMP;VALUE=DATE-TIME:20260421T172158Z
UID:5a5e0ac8f90c4cfe8d0a9c2705eae992@www.baccanaleimola.it
CATEGORIES:Baccanale 2025,spezie
CREATED;VALUE=DATE-TIME:20250916T072931Z
DESCRIPTION:Riduzione fatta da Giorgio Barlotti del testo teatrale di Aldo
  Nicolaj "Amleto in salsa piccante". Lettura scenica drammatizzata con att
 ori in movimento.\nA cura della compagnia teatrale “Il Piccolo di Imola
 ”\n
LAST-MODIFIED;VALUE=DATE-TIME:20250917T085200Z
URL:https://www.baccanaleimola.it/api/programma/amleto-in-salsa-piccante
END:VEVENT
BEGIN:VTIMEZONE
TZID:Europe/Rome
X-LIC-LOCATION:Europe/Rome
BEGIN:STANDARD
DTSTART;VALUE=DATE-TIME:20251026T020000
TZNAME:CET
TZOFFSETFROM:+0200
TZOFFSETTO:+0100
END:STANDARD
END:VTIMEZONE
END:VCALENDAR
