BEGIN:VCALENDAR
VERSION:2.0
PRODID:-//Plone.org//NONSGML plone.app.event//EN
X-WR-TIMEZONE:Europe/Rome
BEGIN:VEVENT
SUMMARY:ALT STAZIONE DEL GUSTO
DTSTART;TZID=Europe/Rome;VALUE=DATE-TIME:20251031T150000
DTEND;TZID=Europe/Rome;VALUE=DATE-TIME:20251031T235900
DTSTAMP;VALUE=DATE-TIME:20260421T210719Z
UID:9dec685262404e0fa84517ab1d3926c6@www.baccanaleimola.it
RRULE:FREQ=DAILY;UNTIL=20251102T000000Z;INTERVAL=1
CREATED;VALUE=DATE-TIME:20251014T143613Z
DESCRIPTION:ALT Stazione del Gusto è un progetto in franchising nato dall
 a collaborazione tra l’Accademia Niko Romito ed Enilive.
LAST-MODIFIED;VALUE=DATE-TIME:20251014T143754Z
URL:https://www.baccanaleimola.it/api/programma/alt-stazione-del-gusto-1
END:VEVENT
BEGIN:VTIMEZONE
TZID:Europe/Rome
X-LIC-LOCATION:Europe/Rome
BEGIN:STANDARD
DTSTART;VALUE=DATE-TIME:20251026T020000
TZNAME:CET
TZOFFSETFROM:+0200
TZOFFSETTO:+0100
END:STANDARD
END:VTIMEZONE
END:VCALENDAR
