BEGIN:VCALENDAR
VERSION:2.0
PRODID:-//Plone.org//NONSGML plone.app.event//EN
X-WR-TIMEZONE:Europe/Rome
BEGIN:VEVENT
SUMMARY:AL MATRIMONIO DI CATERINA SFORZA
DTSTART;TZID=Europe/Rome;VALUE=DATE-TIME:20251104T203000
DTEND;TZID=Europe/Rome;VALUE=DATE-TIME:20251104T223000
DTSTAMP;VALUE=DATE-TIME:20260421T172554Z
UID:b486026c6293477c8c5b6890311db181@www.baccanaleimola.it
CATEGORIES:Baccanale 2025,spezie,cena
CREATED;VALUE=DATE-TIME:20250916T065916Z
DESCRIPTION:Un esclusivo convivio ispirato al matrimonio di Caterina Sforz
 a. Cena rinascimentale tra spezie preziose e ricette storiche e rivisitate
 . Solo 16 commensali alla tavola di una delle donne più affascinanti del 
 Rinascimento italiano
LAST-MODIFIED;VALUE=DATE-TIME:20250917T085153Z
URL:https://www.baccanaleimola.it/api/programma/al-matrimonio-di-caterina-
 sforza
END:VEVENT
BEGIN:VTIMEZONE
TZID:Europe/Rome
X-LIC-LOCATION:Europe/Rome
BEGIN:STANDARD
DTSTART;VALUE=DATE-TIME:20251026T020000
TZNAME:CET
TZOFFSETFROM:+0200
TZOFFSETTO:+0100
END:STANDARD
END:VTIMEZONE
END:VCALENDAR
