BEGIN:VCALENDAR
VERSION:2.0
PRODID:-//Plone.org//NONSGML plone.app.event//EN
X-WR-TIMEZONE:Europe/Rome
BEGIN:VEVENT
SUMMARY:A TAVOLA CON…MASSIMO SPIGAROLI
DTSTART;TZID=Europe/Rome;VALUE=DATE-TIME:20251028T203000
DTEND;TZID=Europe/Rome;VALUE=DATE-TIME:20251028T223000
DTSTAMP;VALUE=DATE-TIME:20260421T172151Z
UID:8db6e2be188e421e823ba4d4568135d6@www.baccanaleimola.it
CATEGORIES:Baccanale 2025,spezie,cena
CREATED;VALUE=DATE-TIME:20251022T072222Z
DESCRIPTION:Con la collaborazione dell’Istituto Alberghiero “P. Artusi
 ” di Riolo Terme e AIS Romagna – Delegazione di Imola
LAST-MODIFIED;VALUE=DATE-TIME:20251022T072833Z
URL:https://www.baccanaleimola.it/api/programma/a-tavola-con-massimo-spiga
 roli
END:VEVENT
BEGIN:VTIMEZONE
TZID:Europe/Rome
X-LIC-LOCATION:Europe/Rome
BEGIN:STANDARD
DTSTART;VALUE=DATE-TIME:20251026T020000
TZNAME:CET
TZOFFSETFROM:+0200
TZOFFSETTO:+0100
END:STANDARD
END:VTIMEZONE
END:VCALENDAR
