BEGIN:VCALENDAR
VERSION:2.0
PRODID:-//Plone.org//NONSGML plone.app.event//EN
X-WR-TIMEZONE:Europe/Rome
BEGIN:VEVENT
SUMMARY:A TAVOLA CON... IMOLA – AROMI DI BACCANALE
DTSTART;TZID=Europe/Rome;VALUE=DATE-TIME:20251104T203000
DTEND;TZID=Europe/Rome;VALUE=DATE-TIME:20251104T223000
DTSTAMP;VALUE=DATE-TIME:20260421T173854Z
UID:36c75b302668470fbeffc8df80ea2366@www.baccanaleimola.it
CATEGORIES:Baccanale 2025,cena,spezie
CREATED;VALUE=DATE-TIME:20250916T064833Z
DESCRIPTION:La cena dei ristoratori imolesi in collaborazione con Cannamel
 a. Con la collaborazione di AIS Romagna – Delegazione di Imola\nA pagame
 nto. Per info e prenotazioni: info@imolafaenza.it\, 0542 25413\n
LAST-MODIFIED;VALUE=DATE-TIME:20251017T074947Z
URL:https://www.baccanaleimola.it/api/programma/a-tavola-con-imola-2013-ar
 omi-di-baccanale
END:VEVENT
BEGIN:VTIMEZONE
TZID:Europe/Rome
X-LIC-LOCATION:Europe/Rome
BEGIN:STANDARD
DTSTART;VALUE=DATE-TIME:20251026T020000
TZNAME:CET
TZOFFSETFROM:+0200
TZOFFSETTO:+0100
END:STANDARD
END:VTIMEZONE
END:VCALENDAR
