BEGIN:VCALENDAR
VERSION:2.0
PRODID:-//Plone.org//NONSGML plone.app.event//EN
X-WR-TIMEZONE:Europe/Rome
BEGIN:VEVENT
SUMMARY:A TAVOLA CON… FERDY WILD
DTSTART;TZID=Europe/Rome;VALUE=DATE-TIME:20251111T203000
DTEND;TZID=Europe/Rome;VALUE=DATE-TIME:20251111T223000
DTSTAMP;VALUE=DATE-TIME:20260421T172022Z
UID:6f80a0c091884c4f8e52bff3de9006c1@www.baccanaleimola.it
CATEGORIES:Baccanale 2025,spezie,cena
CREATED;VALUE=DATE-TIME:20250916T103057Z
DESCRIPTION:Una cucina frutto dello studio della natura\, dei suoi cicli e
  dei suoi doni è al centro della filosofia di Ferdy Wild. Una cucina fatt
 a dalla montagna e per la montagna\, costruita su sapori che nascono da ma
 terie prime uniche e agricolture eroiche. Una ricerca costante di nuove st
 rade da percorrere verso quelle che sono da sempre le mete ideali di Ferdy
  Wild: la sostenibilità del territorio\, l’eccellenza delle produzioni 
 e la valorizzazione delle tradizioni.  
LAST-MODIFIED;VALUE=DATE-TIME:20251017T074915Z
URL:https://www.baccanaleimola.it/api/programma/a-tavola-con-ferdy-wild
END:VEVENT
BEGIN:VTIMEZONE
TZID:Europe/Rome
X-LIC-LOCATION:Europe/Rome
BEGIN:STANDARD
DTSTART;VALUE=DATE-TIME:20251026T020000
TZNAME:CET
TZOFFSETFROM:+0200
TZOFFSETTO:+0100
END:STANDARD
END:VTIMEZONE
END:VCALENDAR
