BEGIN:VCALENDAR
VERSION:2.0
PRODID:-//Plone.org//NONSGML plone.app.event//EN
X-WR-TIMEZONE:Europe/Rome
BEGIN:VEVENT
SUMMARY:A TAVOLA CON ALE GIORGINI
DTSTART;VALUE=DATE:20251025
DTEND;VALUE=DATE:20251117
DTSTAMP;VALUE=DATE-TIME:20260421T172223Z
UID:d26057ebce26429e94a4d7b7ad9647ba@www.baccanaleimola.it
CATEGORIES:Baccanale 2025,spezie,mostre
CREATED;VALUE=DATE-TIME:20250916T134347Z
DESCRIPTION:La mostra\, dedicata all’autore dell’illustrazione del Bac
 canale 2025\, Ale Giorgini\, presenta le sue opere dedicate al mondo della
  cucina. 
LAST-MODIFIED;VALUE=DATE-TIME:20251017T061648Z
URL:https://www.baccanaleimola.it/api/programma/a-tavola-con-ale-giorgini
END:VEVENT
END:VCALENDAR
