BEGIN:VCALENDAR
VERSION:2.0
PRODID:-//Plone.org//NONSGML plone.app.event//EN
X-WR-TIMEZONE:Europe/Rome
BEGIN:VEVENT
SUMMARY:A MENSA CON I MATTI
DTSTART;VALUE=DATE:20251025
DTEND;VALUE=DATE:20251117
DTSTAMP;VALUE=DATE-TIME:20260421T155020Z
UID:8a9bc417fcda4b3cbe0272e348175688@www.baccanaleimola.it
CATEGORIES:Baccanale 2025,spezie,visita guidata,mostre
CREATED;VALUE=DATE-TIME:20250916T141748Z
DESCRIPTION:Per tutta la durata del Baccanale 2025 il Comitato “Bella Os
 servanza” propone le passeggiate per i viali del Complesso dell’Osserv
 anza\, in cui il dott. Giovanni Giovannini racconta la storia della psichi
 atria territoriale arricchendola con aneddoti e riflessioni. Per l’occas
 ione la narrazione si arricchirà di dettagli sulla “mensa” presso il 
 Complesso ex-manicomiale dell’Osservanza. Passeggiate su prenotazione. 
LAST-MODIFIED;VALUE=DATE-TIME:20250917T085324Z
URL:https://www.baccanaleimola.it/api/programma/a-mensa-con-i-matti
END:VEVENT
END:VCALENDAR
