BEGIN:VCALENDAR
VERSION:2.0
PRODID:-//Plone.org//NONSGML plone.app.event//EN
X-WR-TIMEZONE:Europe/Rome
BEGIN:VEVENT
SUMMARY:Baccanale in Boutique: 50 spezie per 1000 ricette
DTSTART;TZID=Europe/Rome;VALUE=DATE-TIME:20251025T100000
DTEND;TZID=Europe/Rome;VALUE=DATE-TIME:20251116T193000
DTSTAMP;VALUE=DATE-TIME:20260421T172109Z
UID:bd8958907a3b4ea2bbcbd02eb8cea42c@www.baccanaleimola.it
CATEGORIES:Baccanale 2025,Baccanale in boutique,degustazione,presentazione
 ,spezie
CREATED;VALUE=DATE-TIME:20250918T125538Z
DESCRIPTION:Apriamo i barattoli delle spezie per un tuffo visivo e olfatti
 vo in paesi lontani. Inoltre degustazione di tè e tisane alle spezie\, bi
 scotti e dolci speziati e distribuzione di materiale informativo.
LAST-MODIFIED;VALUE=DATE-TIME:20251016T140024Z
URL:https://www.baccanaleimola.it/api/programma/50-spezie-per-1000-ricette
END:VEVENT
BEGIN:VTIMEZONE
TZID:Europe/Rome
X-LIC-LOCATION:Europe/Rome
BEGIN:DAYLIGHT
DTSTART;VALUE=DATE-TIME:20250330T030000
TZNAME:CEST
TZOFFSETFROM:+0100
TZOFFSETTO:+0200
END:DAYLIGHT
BEGIN:STANDARD
DTSTART;VALUE=DATE-TIME:20251026T020000
TZNAME:CET
TZOFFSETFROM:+0200
TZOFFSETTO:+0100
END:STANDARD
END:VTIMEZONE
END:VCALENDAR
