BEGIN:VCALENDAR
VERSION:2.0
PRODID:-//Plone.org//NONSGML plone.app.event//EN
X-WR-TIMEZONE:Europe/Rome
BEGIN:VEVENT
SUMMARY:40 ANNI E NON SENTIRLI
DTSTART;TZID=Europe/Rome;VALUE=DATE-TIME:20251026T170000
DTEND;TZID=Europe/Rome;VALUE=DATE-TIME:20251026T183000
DTSTAMP;VALUE=DATE-TIME:20260421T154040Z
UID:7d1a0571be21401ea778f9d931233fef@www.baccanaleimola.it
CATEGORIES:Baccanale 2025,spezie,incontro
CREATED;VALUE=DATE-TIME:20250915T094323Z
DESCRIPTION:Il Baccanale da quarant’anni porta il gusto e la cultura del
  cibo in città. Una storia appassionante raccontata dai testimoni dei pri
 mi anni e da chi negli ultimi trent’anni lo ha fatto crescere e lo ha ma
 ntenuto sempre nuovo e vitale.
LAST-MODIFIED;VALUE=DATE-TIME:20251020T094727Z
URL:https://www.baccanaleimola.it/api/programma/40-anni-e-non-sentirli
END:VEVENT
BEGIN:VTIMEZONE
TZID:Europe/Rome
X-LIC-LOCATION:Europe/Rome
BEGIN:STANDARD
DTSTART;VALUE=DATE-TIME:20251026T020000
TZNAME:CET
TZOFFSETFROM:+0200
TZOFFSETTO:+0100
END:STANDARD
END:VTIMEZONE
END:VCALENDAR
